BEGIN:VCALENDAR
VERSION:2.0
PRODID:-//ChamberMaster//Event Calendar 2.0//EN
METHOD:PUBLISH
X-PUBLISHED-TTL:P3D
REFRESH-INTERVAL:P3D
CALSCALE:GREGORIAN
BEGIN:VEVENT
DTSTART:20190725T190000Z
DTEND:20190725T200000Z
X-MICROSOFT-CDO-ALLDAYEVENT:FALSE
SUMMARY:The Center for WIldlife Visits The Village Toy Funatic
DESCRIPTION:We are so lucky to have a wildlife center in our area!! And we want to help share their work with everyone while visiting the Ogunquit area!\n\nWe are excited to announce the Center for Wildlife will be visiting the Village Toy Funatic on Thursday  July 25th from 3-4. Visit with CFW educators and animal ambassadors and learn about their important work treating injured and orphaned wildlife. You will have the opportunity to meet several of their non-releasable animal ambassadors up close\, and touch hands-on displays such as wings\, talons\, and more! Learn about their plans for the new facility in Cape Neddick and how you can help make this a reality. For more information about the Center For Wildlife visit https://www.thecenterforwildlife.org/mission
X-ALT-DESC;FMTTYPE=text/html:<span style="font-size:15px">We are so lucky to have a wildlife center in our area!! And we want to help share their work with everyone while visiting the Ogunquit area!<br />\nWe are excited to announce the Center for Wildlife will be visiting the Village Toy Funatic on Thursday&nbsp\; July 25th from 3-4. Visit with CFW educators and animal ambassadors and learn about their important work treating injured and orphaned wildlife. You will have the opportunity to meet several of their non-releasable animal ambassadors up close\, and touch hands-on displays such as wings\, talons\, and more! Learn about their plans for the new facility in Cape Neddick and how you can help make this a reality. For more information about the Center For Wildlife visit&nbsp\;<a href="https://www.thecenterforwildlife.org/mission" style="-ms-text-size-adjust:100%\;-webkit-text-size-adjust:100%\;color:#00ADD8\;font-weight:normal\;text-decoration:underline\;" target="_blank">https://www.thecenterforwildlife.org/mission </a></span><br />\n&nbsp\;
LOCATION:The Village Toy Funatic 232 Main Street Ogunquit ME 03907
UID:e.882.11406
SEQUENCE:3
DTSTAMP:20260419T145754Z
URL:https://ogunquit-gzcms.preview.gochambermaster.com/events/details/the-center-for-wildlife-visits-the-village-toy-funatic-07-26-2018-11406
END:VEVENT

END:VCALENDAR
