BEGIN:VCALENDAR
VERSION:2.0
PRODID:-//ChamberMaster//Event Calendar 2.0//EN
METHOD:PUBLISH
X-PUBLISHED-TTL:P3D
REFRESH-INTERVAL:P3D
CALSCALE:GREGORIAN
BEGIN:VEVENT
DTSTART:20180217T150000Z
DTEND:20180217T170000Z
X-MICROSOFT-CDO-ALLDAYEVENT:FALSE
SUMMARY:Teeny Teacup Fairy Houses
DESCRIPTION:"Teeny Teacup Fairy Gardens" is a very special program with Artsea\, for all ages. All materials will be supplied to create fanciful tiny worlds! Limited space available\, please call or email to reserve your spot. info@wohistory.org or 207-646-4775.
X-ALT-DESC;FMTTYPE=text/html:&quot\;Teeny Teacup Fairy Gardens&quot\;&nbsp\;is a very special program with Artsea\, for all ages. All materials will be supplied to create fanciful tiny worlds! Limited space available\, please call or email to reserve your spot. info@wohistory.org or 207-646-4775.
LOCATION:The Meetinghouse Museum\, located at The Historical Society of Wells and Ogunquit on 938 Post Road in Wells.
UID:e.882.3880
SEQUENCE:3
DTSTAMP:20260423T041924Z
URL:https://ogunquit-gzcms.preview.gochambermaster.com/events/details/teeny-teacup-fairy-houses-3880
END:VEVENT

END:VCALENDAR
