BEGIN:VCALENDAR
VERSION:2.0
PRODID:-//ChamberMaster//Event Calendar 2.0//EN
METHOD:PUBLISH
X-PUBLISHED-TTL:P3D
REFRESH-INTERVAL:P3D
CALSCALE:GREGORIAN
BEGIN:VEVENT
DTSTART:20180825T210000Z
DTEND:20180825T230000Z
X-MICROSOFT-CDO-ALLDAYEVENT:FALSE
SUMMARY:Saturday Night Vibes - Live Music & Craft Cocktails
DESCRIPTION:Join us at the Wiggly Bridge Distillery for award winning handcrafted cocktails and talented live music! 5-7pm on Saturdays!
X-ALT-DESC;FMTTYPE=text/html:<br />\nJoin us at the Wiggly Bridge Distillery for award winning handcrafted cocktails and talented live music! 5-7pm on Saturdays!
LOCATION:Wiggly Bridge Distillery Barn 441 US Route 1 York\, ME 03909
UID:e.882.5376
SEQUENCE:3
DTSTAMP:20260421T213814Z
URL:https://ogunquit-gzcms.preview.gochambermaster.com/events/details/saturday-night-vibes-live-music-craft-cocktails-08-25-2018-5376
END:VEVENT

END:VCALENDAR
