BEGIN:VCALENDAR
VERSION:2.0
PRODID:-//ChamberMaster//Event Calendar 2.0//EN
METHOD:PUBLISH
X-PUBLISHED-TTL:P3D
REFRESH-INTERVAL:P3D
CALSCALE:GREGORIAN
BEGIN:VEVENT
DTSTART:20180801T131500Z
DTEND:20180801T160000Z
X-MICROSOFT-CDO-ALLDAYEVENT:FALSE
SUMMARY:Northern New England Lifeguard Competition
DESCRIPTION:Ogunquit's Annual Northern New England Lifeguard Competition
X-ALT-DESC;FMTTYPE=text/html:Ogunquit&#39\;s Annual Northern New England Lifeguard Competition
LOCATION:Ogunquit Beach Ogunquit\, ME
UID:e.882.7048
SEQUENCE:3
DTSTAMP:20260421T160122Z
URL:https://ogunquit-gzcms.preview.gochambermaster.com/events/details/northern-new-england-lifeguard-competition-7048
END:VEVENT

END:VCALENDAR
