BEGIN:VCALENDAR
VERSION:2.0
PRODID:-//ChamberMaster//Event Calendar 2.0//EN
METHOD:PUBLISH
X-PUBLISHED-TTL:P3D
REFRESH-INTERVAL:P3D
CALSCALE:GREGORIAN
BEGIN:VEVENT
DTSTART:20160821T000000Z
DTEND:20160821T030000Z
X-MICROSOFT-CDO-ALLDAYEVENT:FALSE
SUMMARY:Live Music Saturdays at Meadowmere Resort
DESCRIPTION:Live music at the West Meadow Pub 8pm-11pm Saturdays all summer long. Enjoy local artists and kick back for an evening of fun in Ogunquit!?
X-ALT-DESC;FMTTYPE=text/html:<div><span style="line-height:1.6">Live music at the West Meadow Pub 8pm-11pm Saturdays all summer long. Enjoy local artists and kick back for an evening of fun in Ogunquit!?</span></div>\n
LOCATION:West Meadow Pub at Meadowmere Resort\, 74 Main Street\, Ogunquit\, ME 03907
UID:e.882.86
SEQUENCE:3
DTSTAMP:20260425T104050Z
URL:https://ogunquit-gzcms.preview.gochambermaster.com/events/details/live-music-saturdays-at-meadowmere-resort-08-20-2016-86
END:VEVENT

END:VCALENDAR
