BEGIN:VCALENDAR
VERSION:2.0
PRODID:-//ChamberMaster//Event Calendar 2.0//EN
METHOD:PUBLISH
X-PUBLISHED-TTL:P3D
REFRESH-INTERVAL:P3D
CALSCALE:GREGORIAN
BEGIN:VEVENT
DTSTART:20190412T130000Z
DTEND:20190413T210000Z
X-MICROSOFT-CDO-ALLDAYEVENT:FALSE
SUMMARY:Library Book Sale
DESCRIPTION:9am-noon and 2-5pm: LIBRARY BOOK SALE (Ogunquit Memorial Library) Used book sale\, with proceeds to fund the Ogunquit Memorial Library.
X-ALT-DESC;FMTTYPE=text/html:<span style="color:navy\;"><span style="font-family:arial\,sans-serif\;"><span style="font-size:10.0pt\;">9am-noon and 2-5pm: LIBRARY BOOK SALE (Ogunquit Memorial Library) Used book sale\, with proceeds to fund the Ogunquit Memorial Library.</span></span></span>
LOCATION:Ogunquit Memorial Library
UID:e.882.10274
SEQUENCE:3
DTSTAMP:20260420T120601Z
URL:https://ogunquit-gzcms.preview.gochambermaster.com/events/details/library-book-sale-10274
END:VEVENT

END:VCALENDAR
