BEGIN:VCALENDAR
VERSION:2.0
PRODID:-//ChamberMaster//Event Calendar 2.0//EN
METHOD:PUBLISH
X-PUBLISHED-TTL:P3D
REFRESH-INTERVAL:P3D
CALSCALE:GREGORIAN
BEGIN:VEVENT
DTSTART:20190413T173000Z
DTEND:20190413T183000Z
X-MICROSOFT-CDO-ALLDAYEVENT:FALSE
SUMMARY:JUNIOR FIFE & DRUM CORP PRESENTATION
DESCRIPTION:Watch the youngsters of Eliot's Fife & Drum Corp in a demonstration in the park at the Ogunquit Heritage Museum.
X-ALT-DESC;FMTTYPE=text/html:Watch the youngsters of Eliot&#39\;s Fife &amp\; Drum Corp in a demonstration in the park at the Ogunquit Heritage Museum.
LOCATION:Ogunquit HEritage Museum
UID:e.882.10281
SEQUENCE:3
DTSTAMP:20260420T073321Z
URL:https://ogunquit-gzcms.preview.gochambermaster.com/events/details/junior-fife-drum-corp-presentation-10281
END:VEVENT

END:VCALENDAR
