BEGIN:VCALENDAR
VERSION:2.0
PRODID:-//ChamberMaster//Event Calendar 2.0//EN
METHOD:PUBLISH
X-PUBLISHED-TTL:P3D
REFRESH-INTERVAL:P3D
CALSCALE:GREGORIAN
BEGIN:VEVENT
DTSTART:20181006T140000Z
DTEND:20181006T200000Z
X-MICROSOFT-CDO-ALLDAYEVENT:FALSE
SUMMARY:Bear Mart Craft Festival and Fundraiser
DESCRIPTION:Join us Saturday October 6th from 10am - 4pm for the first annual BearMart Craft Fair and Fundraiser.  This event is part of MaineStreets annual Bearfest weekend.  Everyone is welcome.  Anyone interested in displaying their crafts/ artwork are encouraged to reach out to info@ruffstudio.com
X-ALT-DESC;FMTTYPE=text/html:Join us Saturday October 6th from 10am - 4pm for the first annual BearMart Craft Fair and Fundraiser. &nbsp\;This event is part of MaineStreets annual Bearfest weekend. &nbsp\;Everyone is welcome. &nbsp\;Anyone interested in displaying their crafts/ artwork are encouraged to reach out to info@ruffstudio.com
LOCATION:MaineStreet 195 Main Street Ogunquit\, ME 03907
UID:e.882.7070
SEQUENCE:3
DTSTAMP:20260421T070943Z
URL:https://ogunquit-gzcms.preview.gochambermaster.com/events/details/bear-mart-craft-festival-and-fundraiser-7070
END:VEVENT

END:VCALENDAR
