BEGIN:VCALENDAR
VERSION:2.0
PRODID:-//ChamberMaster//Event Calendar 2.0//EN
METHOD:PUBLISH
X-PUBLISHED-TTL:P3D
REFRESH-INTERVAL:P3D
CALSCALE:GREGORIAN
BEGIN:VEVENT
DTSTART:20190601T120000Z
DTEND:20190601T190000Z
X-MICROSOFT-CDO-ALLDAYEVENT:FALSE
SUMMARY:10TH ANNUAL ARNIE'S-RIDE BENEFITS MCCP
DESCRIPTION:This is a Motorcycle/Automobile/Truck "Ride" and social event. The ride begins and ends at the Sanford Elks Lodge\, followed by a BBQ\, with several stops along the route. Registration (commemorative t-shirt incl.) is $25 per person and is available now until the day of the ride. To have the shirt for the day of the event\, registrations must be received by May 15th) others will receive shirts at a later date. **Rain date Sunday June 2nd.
X-ALT-DESC;FMTTYPE=text/html:This is a Motorcycle/Automobile/Truck &quot\;Ride&rdquo\; and social event. The ride begins and ends at the Sanford Elks Lodge\, followed by a BBQ\, with several stops along the route. Registration (commemorative t-shirt incl.) is $25 per person and is available now until the day of the ride. To have the shirt for the day of the event\, registrations must be received by May 15th) others will receive shirts at a later date. **Rain date Sunday June 2nd.
LOCATION:Sanford Elks Lodge #1470 13 Elm Street Sanford\, ME 04073
UID:e.882.10975
SEQUENCE:3
DTSTAMP:20260419T221012Z
URL:https://ogunquit-gzcms.preview.gochambermaster.com/events/details/10th-annual-arnie-s-ride-benefits-mccp-10975
END:VEVENT

END:VCALENDAR
